BEGIN:VCALENDAR
VERSION:2.0
PRODID:-//81.169.145.148//NONSGML kigkonsult.se iCalcreator 2.20//
CALSCALE:GREGORIAN
METHOD:PUBLISH
X-WR-TIMEZONE:Europe/Berlin
BEGIN:VEVENT
UID:event124@ASV Senden e.V. Schach
DTSTAMP:20260424T041833Z
CATEGORIES:Kreisklasse
DESCRIPTION:SF Telgte III - ASV Senden II\nKategorie: Kreisklasse\nICS-Link
 : https://schach.asv-senden.de/index.php?option=com_jem&view=event&id=124:
 sf-telgte-iii-asv-senden-ii\n
DTSTART;TZID=Europe/Berlin:20230923T160000
DTEND;TZID=Europe/Berlin:20230923T160000
LOCATION:Knickenberghaus\,Knickenbergplatz 7\,48291 Telgte
SUMMARY:SF Telgte III - ASV Senden II
URL:https://schach.asv-senden.de/index.php?option=com_jem&view=event&id=124
 :sf-telgte-iii-asv-senden-ii
END:VEVENT
END:VCALENDAR
