BEGIN:VCALENDAR
VERSION:2.0
PRODID:-//81.169.145.148//NONSGML kigkonsult.se iCalcreator 2.20//
CALSCALE:GREGORIAN
METHOD:PUBLISH
X-WR-TIMEZONE:Europe/Berlin
BEGIN:VEVENT
UID:event128@ASV Senden e.V. Schach
DTSTAMP:20260424T234525Z
CATEGORIES:Kreisklasse
DESCRIPTION:SVT Billerbeck III - ASV Senden II\nKategorie: Kreisklasse\nICS
 -Link: https://schach.asv-senden.de/index.php?option=com_jem&view=event&id
 =128:svt-billerbeck-iii-asv-senden-ii\n
DTSTART;TZID=Europe/Berlin:20240113T160000
DTEND;TZID=Europe/Berlin:20240113T160000
LOCATION:Alte Landwirtschaftsschule\,\,Darfelder Straße 10\,48727 Billerbec
 k
SUMMARY:SVT Billerbeck III - ASV Senden II
URL:https://schach.asv-senden.de/index.php?option=com_jem&view=event&id=128
 :svt-billerbeck-iii-asv-senden-ii
END:VEVENT
END:VCALENDAR
