BEGIN:VCALENDAR
VERSION:2.0
PRODID:-//81.169.145.148//NONSGML kigkonsult.se iCalcreator 2.20//
CALSCALE:GREGORIAN
METHOD:PUBLISH
X-WR-TIMEZONE:Europe/Berlin
BEGIN:VEVENT
UID:event258@ASV Senden e.V. Schach
DTSTAMP:20260421T180354Z
CATEGORIES:Jugend
DESCRIPTION:Bezirksjugend-Einzelmeisterschaft\nKategorie: Jugend\nICS-Link:
  https://schach.asv-senden.de/index.php?option=com_jem&view=event&id=258:b
 ezirksjugend-einzelmeisterschaft\n
DTSTART;VALUE=DATE:20251003
DTEND;VALUE=DATE:20251006
LOCATION:Kulturbahnhof\,Bahnhofsplatz 2\,48317 Drensteinfurt
SUMMARY:Bezirksjugend-Einzelmeisterschaft
URL:https://schach.asv-senden.de/index.php?option=com_jem&view=event&id=258
 :bezirksjugend-einzelmeisterschaft
END:VEVENT
END:VCALENDAR
