BEGIN:VCALENDAR
VERSION:2.0
PRODID:-//81.169.145.148//NONSGML kigkonsult.se iCalcreator 2.20//
CALSCALE:GREGORIAN
METHOD:PUBLISH
X-WR-TIMEZONE:Europe/Berlin
BEGIN:VEVENT
UID:event296@ASV Senden e.V. Schach
DTSTAMP:20260424T023143Z
CATEGORIES:Jugend
DESCRIPTION:Vereinsjugendmeisterschaft\nKategorie: Jugend\nICS-Link: https:
 //schach.asv-senden.de/index.php?option=com_jem&view=event&id=296:vereinsj
 ugendmeisterschaft\n
DTSTART;TZID=Europe/Berlin:20260915T170000
DTEND;TZID=Europe/Berlin:20260915T200000
LOCATION:Sportpark Senden\,Bulderner Straße 13c\,48308 Senden
SUMMARY:Vereinsjugendmeisterschaft
URL:https://schach.asv-senden.de/index.php?option=com_jem&view=event&id=296
 :vereinsjugendmeisterschaft
END:VEVENT
END:VCALENDAR
