BEGIN:VCALENDAR
VERSION:2.0
PRODID:-//81.169.145.148//NONSGML kigkonsult.se iCalcreator 2.20//
CALSCALE:GREGORIAN
METHOD:PUBLISH
X-WR-TIMEZONE:Europe/Berlin
BEGIN:VEVENT
UID:event48@ASV Senden e.V. Schach
DTSTAMP:20260421T192854Z
CATEGORIES:Jugend
DESCRIPTION:U14 Mannschaftsmeisterschaft \nKategorie: Jugend\nICS-Link: htt
 ps://schach.asv-senden.de/index.php?option=com_jem&view=event&id=48:u14-ma
 nnschaftsmeisterschaft\n
DTSTART;TZID=Europe/Berlin:20200301T100000
DTEND;TZID=Europe/Berlin:20200301T160000
LOCATION:Josefschule\,Hermannstraße 58\,48151 Münster
SUMMARY:U14 Mannschaftsmeisterschaft 
URL:https://schach.asv-senden.de/index.php?option=com_jem&view=event&id=48:
 u14-mannschaftsmeisterschaft
END:VEVENT
END:VCALENDAR
