BEGIN:VCALENDAR
VERSION:2.0
PRODID:-//81.169.145.148//NONSGML kigkonsult.se iCalcreator 2.20//
CALSCALE:GREGORIAN
METHOD:PUBLISH
X-WR-TIMEZONE:Europe/Berlin
BEGIN:VEVENT
UID:event94@ASV Senden e.V. Schach
DTSTAMP:20260420T234402Z
CATEGORIES:Bezirksliga
DESCRIPTION:ASV Senden - Ind. Dame Münster 2\nKategorie: Bezirksliga\nICS-L
 ink: https://schach.asv-senden.de/index.php?option=com_jem&view=event&id=9
 4:bezirksmeisterschaft\n
DTSTART;TZID=Europe/Berlin:20230422T160000
DTEND;TZID=Europe/Berlin:20230422T210000
LOCATION:Sportpark Senden\,Bulderner Straße 13c\,48308 Senden
SUMMARY:ASV Senden - Ind. Dame Münster 2
URL:https://schach.asv-senden.de/index.php?option=com_jem&view=event&id=94:
 bezirksmeisterschaft
END:VEVENT
END:VCALENDAR
